BEGIN:VCALENDAR
VERSION:2.0
PRODID:-//Sacred Heart Canossian College - ECPv6.15.20//NONSGML v1.0//EN
CALSCALE:GREGORIAN
METHOD:PUBLISH
X-WR-CALNAME:Sacred Heart Canossian College
X-ORIGINAL-URL:https://shcces.edu.mo
X-WR-CALDESC:Events for Sacred Heart Canossian College
REFRESH-INTERVAL;VALUE=DURATION:PT1H
X-Robots-Tag:noindex
X-PUBLISHED-TTL:PT1H
BEGIN:VTIMEZONE
TZID:Asia/Macau
BEGIN:STANDARD
TZOFFSETFROM:+0800
TZOFFSETTO:+0800
TZNAME:CST
DTSTART:20210101T000000
END:STANDARD
END:VTIMEZONE
BEGIN:VEVENT
DTSTART;VALUE=DATE:20220131
DTEND;VALUE=DATE:20220208
DTSTAMP:20260422T182945
CREATED:20210921T075331Z
LAST-MODIFIED:20210921T075618Z
UID:11747-1643587200-1644278399@shcces.edu.mo
SUMMARY:Chinese New Year Holidays
DESCRIPTION:農曆新年假期
URL:https://shcces.edu.mo/event/chinese-new-year-holidays-2/
CATEGORIES:School Events
ATTACH;FMTTYPE=image/jpeg:https://shcces.edu.mo/wp-content/uploads/2019/08/chinese-new-year-scaled.jpg
END:VEVENT
BEGIN:VEVENT
DTSTART;VALUE=DATE:20220211
DTEND;VALUE=DATE:20220212
DTSTAMP:20260422T182945
CREATED:20210921T080050Z
LAST-MODIFIED:20210921T080050Z
UID:11751-1644537600-1644623999@shcces.edu.mo
SUMMARY:Eucharistic Celebration
DESCRIPTION:感恩播祭
URL:https://shcces.edu.mo/event/eucharistic-celebration-18/
CATEGORIES:School Events
ATTACH;FMTTYPE=image/jpeg:https://shcces.edu.mo/wp-content/uploads/2019/06/mass.jpg
END:VEVENT
BEGIN:VEVENT
DTSTART;VALUE=DATE:20220219
DTEND;VALUE=DATE:20220220
DTSTAMP:20260422T182945
CREATED:20210921T080349Z
LAST-MODIFIED:20210921T080349Z
UID:11753-1645228800-1645315199@shcces.edu.mo
SUMMARY:Chinese Culture Day
DESCRIPTION:中國文化日
URL:https://shcces.edu.mo/event/chinese-culture-day/
CATEGORIES:School Events
ATTACH;FMTTYPE=image/jpeg:https://shcces.edu.mo/wp-content/uploads/2019/08/chinese-new-year-scaled.jpg
END:VEVENT
BEGIN:VEVENT
DTSTART;VALUE=DATE:20220226
DTEND;VALUE=DATE:20220227
DTSTAMP:20260422T182945
CREATED:20210921T080603Z
LAST-MODIFIED:20210921T080603Z
UID:11755-1645833600-1645919999@shcces.edu.mo
SUMMARY:Reports Distribution (Whole School)
DESCRIPTION:成績表派發（全校）
URL:https://shcces.edu.mo/event/reports-distribution-whole-school-2/
CATEGORIES:School Events
ATTACH;FMTTYPE=image/jpeg:https://shcces.edu.mo/wp-content/uploads/2019/06/reports-out.jpg
END:VEVENT
BEGIN:VEVENT
DTSTART;VALUE=DATE:20220226
DTEND;VALUE=DATE:20220227
DTSTAMP:20260422T182945
CREATED:20210921T080730Z
LAST-MODIFIED:20210921T080730Z
UID:11757-1645833600-1645919999@shcces.edu.mo
SUMMARY:Parents' Day (F3)
DESCRIPTION:家長會（中三）
URL:https://shcces.edu.mo/event/parents-day-f3/
CATEGORIES:School Events,Secondary
ATTACH;FMTTYPE=image/jpeg:https://shcces.edu.mo/wp-content/uploads/2019/08/parents-day-scaled.jpg
END:VEVENT
END:VCALENDAR