BEGIN:VCALENDAR
VERSION:2.0
PRODID:-//Sacred Heart Canossian College - ECPv6.15.20//NONSGML v1.0//EN
CALSCALE:GREGORIAN
METHOD:PUBLISH
X-ORIGINAL-URL:https://shcces.edu.mo
X-WR-CALDESC:Events for Sacred Heart Canossian College
REFRESH-INTERVAL;VALUE=DURATION:PT1H
X-Robots-Tag:noindex
X-PUBLISHED-TTL:PT1H
BEGIN:VTIMEZONE
TZID:Asia/Macau
BEGIN:STANDARD
TZOFFSETFROM:+0800
TZOFFSETTO:+0800
TZNAME:CST
DTSTART:20210101T000000
END:STANDARD
END:VTIMEZONE
BEGIN:VEVENT
DTSTART;VALUE=DATE:20220101
DTEND;VALUE=DATE:20220102
DTSTAMP:20260422T195714
CREATED:20210921T071333Z
LAST-MODIFIED:20210921T071333Z
UID:11727-1640995200-1641081599@shcces.edu.mo
SUMMARY:New Year Holiday
DESCRIPTION:新年假期
URL:https://shcces.edu.mo/event/new-year-holiday-2/
CATEGORIES:Public Events
ATTACH;FMTTYPE=image/jpeg:https://shcces.edu.mo/wp-content/uploads/2019/08/new-year-scaled.jpg
END:VEVENT
BEGIN:VEVENT
DTSTART;VALUE=DATE:20220104
DTEND;VALUE=DATE:20220108
DTSTAMP:20260422T195714
CREATED:20210921T071950Z
LAST-MODIFIED:20210921T071950Z
UID:11731-1641254400-1641599999@shcces.edu.mo
SUMMARY:First Term Examinations: F.5 - F.6
DESCRIPTION:第一段考試：中五至中六
URL:https://shcces.edu.mo/event/first-term-examinations-f-5-f-6-7/
CATEGORIES:School Events,Secondary
ATTACH;FMTTYPE=image/jpeg:https://shcces.edu.mo/wp-content/uploads/2019/08/exam-scaled.jpg
END:VEVENT
BEGIN:VEVENT
DTSTART;VALUE=DATE:20220105
DTEND;VALUE=DATE:20220108
DTSTAMP:20260422T195714
CREATED:20210921T072257Z
LAST-MODIFIED:20210921T072257Z
UID:11735-1641340800-1641599999@shcces.edu.mo
SUMMARY:First Term Examinations: F.3 - F.4
DESCRIPTION:中三至中四
URL:https://shcces.edu.mo/event/first-term-examinations-f-3-f-4-5/
CATEGORIES:School Events,Secondary
ATTACH;FMTTYPE=image/jpeg:https://shcces.edu.mo/wp-content/uploads/2019/08/exam-scaled.jpg
END:VEVENT
BEGIN:VEVENT
DTSTART;VALUE=DATE:20220107
DTEND;VALUE=DATE:20220108
DTSTAMP:20260422T195714
CREATED:20210921T071728Z
LAST-MODIFIED:20210921T071728Z
UID:11729-1641513600-1641599999@shcces.edu.mo
SUMMARY:Eucharistic Celebration
DESCRIPTION:感恩祭
URL:https://shcces.edu.mo/event/eucharistic-celebration-17/
CATEGORIES:School Events
ATTACH;FMTTYPE=image/jpeg:https://shcces.edu.mo/wp-content/uploads/2019/06/mass.jpg
END:VEVENT
BEGIN:VEVENT
DTSTART;VALUE=DATE:20220110
DTEND;VALUE=DATE:20220115
DTSTAMP:20260422T195714
CREATED:20210921T072113Z
LAST-MODIFIED:20210921T072113Z
UID:11733-1641772800-1642204799@shcces.edu.mo
SUMMARY:First Term Examinations: F.5 - F.6
DESCRIPTION:第一段考試：中五至中六
URL:https://shcces.edu.mo/event/first-term-examinations-f-5-f-6-8/
CATEGORIES:School Events,Secondary
ATTACH;FMTTYPE=image/jpeg:https://shcces.edu.mo/wp-content/uploads/2019/08/exam-scaled.jpg
END:VEVENT
BEGIN:VEVENT
DTSTART;VALUE=DATE:20220110
DTEND;VALUE=DATE:20220115
DTSTAMP:20260422T195714
CREATED:20210921T072416Z
LAST-MODIFIED:20210921T072416Z
UID:11737-1641772800-1642204799@shcces.edu.mo
SUMMARY:First Term Examinations: F.3 - F.4
DESCRIPTION:中三至中四
URL:https://shcces.edu.mo/event/first-term-examinations-f-3-f-4-6/
CATEGORIES:School Events
ATTACH;FMTTYPE=image/jpeg:https://shcces.edu.mo/wp-content/uploads/2019/08/exam-scaled.jpg
END:VEVENT
BEGIN:VEVENT
DTSTART;VALUE=DATE:20220110
DTEND;VALUE=DATE:20220112
DTSTAMP:20260422T195714
CREATED:20210921T072723Z
LAST-MODIFIED:20210921T072723Z
UID:11739-1641772800-1641945599@shcces.edu.mo
SUMMARY:First Term Examinations: P.1 - F.2
DESCRIPTION:小一至中二
URL:https://shcces.edu.mo/event/first-term-examinations-p-1-f-2-5/
CATEGORIES:School Events
ATTACH;FMTTYPE=image/jpeg:https://shcces.edu.mo/wp-content/uploads/2019/08/exam-scaled.jpg
END:VEVENT
BEGIN:VEVENT
DTSTART;VALUE=DATE:20220112
DTEND;VALUE=DATE:20220113
DTSTAMP:20260422T195714
CREATED:20210921T074203Z
LAST-MODIFIED:20210921T074203Z
UID:11743-1641945600-1642031999@shcces.edu.mo
SUMMARY:Day off for Revision (P.1 - F.2)
DESCRIPTION:考試溫習日（小一至中二）
URL:https://shcces.edu.mo/event/day-off-for-revision-p-1-f-2/
CATEGORIES:Primary,School Events,Secondary
ATTACH;FMTTYPE=image/jpeg:https://shcces.edu.mo/wp-content/uploads/2019/08/exam-scaled.jpg
END:VEVENT
BEGIN:VEVENT
DTSTART;VALUE=DATE:20220113
DTEND;VALUE=DATE:20220115
DTSTAMP:20260422T195714
CREATED:20210921T073854Z
LAST-MODIFIED:20210921T073854Z
UID:11741-1642032000-1642204799@shcces.edu.mo
SUMMARY:First Term Examinations: P.1 - F.2
DESCRIPTION:第一段考試：小一至中二
URL:https://shcces.edu.mo/event/first-term-examinations-p-1-f-2-6/
CATEGORIES:Primary,School Events,Secondary
ATTACH;FMTTYPE=image/jpeg:https://shcces.edu.mo/wp-content/uploads/2019/08/exam-scaled.jpg
END:VEVENT
BEGIN:VEVENT
DTSTART;VALUE=DATE:20220129
DTEND;VALUE=DATE:20220130
DTSTAMP:20260422T195714
CREATED:20210921T075015Z
LAST-MODIFIED:20210921T075015Z
UID:11745-1643414400-1643500799@shcces.edu.mo
SUMMARY:Spring Cleaning (Whole School)
DESCRIPTION:年廿七大掃除（全校）
URL:https://shcces.edu.mo/event/spring-cleaning-whole-school-2/
CATEGORIES:School Events
ATTACH;FMTTYPE=image/jpeg:https://shcces.edu.mo/wp-content/uploads/2019/08/clean-scaled.jpg
END:VEVENT
BEGIN:VEVENT
DTSTART;VALUE=DATE:20220131
DTEND;VALUE=DATE:20220208
DTSTAMP:20260422T195714
CREATED:20210921T075331Z
LAST-MODIFIED:20210921T075618Z
UID:11747-1643587200-1644278399@shcces.edu.mo
SUMMARY:Chinese New Year Holidays
DESCRIPTION:農曆新年假期
URL:https://shcces.edu.mo/event/chinese-new-year-holidays-2/
CATEGORIES:School Events
ATTACH;FMTTYPE=image/jpeg:https://shcces.edu.mo/wp-content/uploads/2019/08/chinese-new-year-scaled.jpg
END:VEVENT
END:VCALENDAR