BEGIN:VCALENDAR
VERSION:2.0
PRODID:-//Sacred Heart Canossian College - ECPv6.15.20//NONSGML v1.0//EN
CALSCALE:GREGORIAN
METHOD:PUBLISH
X-WR-CALNAME:Sacred Heart Canossian College
X-ORIGINAL-URL:https://shcces.edu.mo
X-WR-CALDESC:Events for Sacred Heart Canossian College
REFRESH-INTERVAL;VALUE=DURATION:PT1H
X-Robots-Tag:noindex
X-PUBLISHED-TTL:PT1H
BEGIN:VTIMEZONE
TZID:Asia/Macau
BEGIN:STANDARD
TZOFFSETFROM:+0800
TZOFFSETTO:+0800
TZNAME:CST
DTSTART:20200101T000000
END:STANDARD
END:VTIMEZONE
BEGIN:VEVENT
DTSTART;VALUE=DATE:20211129
DTEND;VALUE=DATE:20211204
DTSTAMP:20260422T212952
CREATED:20210921T055841Z
LAST-MODIFIED:20210921T055841Z
UID:11707-1638144000-1638575999@shcces.edu.mo
SUMMARY:Legal Education Week
DESCRIPTION:普法教育周
URL:https://shcces.edu.mo/event/legal-education-week/
CATEGORIES:School Events
ATTACH;FMTTYPE=image/jpeg:https://shcces.edu.mo/wp-content/uploads/2019/08/exam-scaled.jpg
END:VEVENT
BEGIN:VEVENT
DTSTART;VALUE=DATE:20211203
DTEND;VALUE=DATE:20211204
DTSTAMP:20260422T212952
CREATED:20210921T060006Z
LAST-MODIFIED:20210921T060006Z
UID:11709-1638489600-1638575999@shcces.edu.mo
SUMMARY:Eucharistic Celebration
DESCRIPTION:感恩祭
URL:https://shcces.edu.mo/event/eucharistic-celebration-16/
CATEGORIES:School Events
ATTACH;FMTTYPE=image/jpeg:https://shcces.edu.mo/wp-content/uploads/2019/06/mass.jpg
END:VEVENT
BEGIN:VEVENT
DTSTART;VALUE=DATE:20211204
DTEND;VALUE=DATE:20211205
DTSTAMP:20260422T212952
CREATED:20210921T060410Z
LAST-MODIFIED:20210921T060410Z
UID:11711-1638576000-1638662399@shcces.edu.mo
SUMMARY:Legal Education Day
DESCRIPTION:普法教育日
URL:https://shcces.edu.mo/event/legal-education-day/
CATEGORIES:School Events
ATTACH;FMTTYPE=image/jpeg:https://shcces.edu.mo/wp-content/uploads/2019/08/exam-scaled.jpg
END:VEVENT
BEGIN:VEVENT
DTSTART;VALUE=DATE:20211207
DTEND;VALUE=DATE:20211208
DTSTAMP:20260422T212952
CREATED:20210921T060647Z
LAST-MODIFIED:20210921T060647Z
UID:11713-1638835200-1638921599@shcces.edu.mo
SUMMARY:School Picnic (Secondary)
DESCRIPTION:郊遊日(中學)
URL:https://shcces.edu.mo/event/school-picnic-secondary-2/
CATEGORIES:School Events,Secondary
ATTACH;FMTTYPE=image/jpeg:https://shcces.edu.mo/wp-content/uploads/2019/08/picnic-scaled.jpg
END:VEVENT
BEGIN:VEVENT
DTSTART;VALUE=DATE:20211207
DTEND;VALUE=DATE:20211208
DTSTAMP:20260422T212952
CREATED:20210921T060935Z
LAST-MODIFIED:20210921T060935Z
UID:11715-1638835200-1638921599@shcces.edu.mo
SUMMARY:Sports Day (Primary)
DESCRIPTION:小學運動日
URL:https://shcces.edu.mo/event/sports-day-primary/
CATEGORIES:Primary,School Events
ATTACH;FMTTYPE=image/jpeg:https://shcces.edu.mo/wp-content/uploads/2019/11/sports-day-1920_03-scaled.jpg
END:VEVENT
BEGIN:VEVENT
DTSTART;VALUE=DATE:20211208
DTEND;VALUE=DATE:20211209
DTSTAMP:20260422T212952
CREATED:20210921T061133Z
LAST-MODIFIED:20210921T061133Z
UID:11717-1638921600-1639007999@shcces.edu.mo
SUMMARY:Feast of Immaculate Conception
DESCRIPTION:聖母無原罪瞻禮
URL:https://shcces.edu.mo/event/feast-of-immaculate-conception-2/
CATEGORIES:Public Events
ATTACH;FMTTYPE=image/jpeg:https://shcces.edu.mo/wp-content/uploads/2019/08/Feast-of-Immaculate-Conception-scaled.jpg
END:VEVENT
BEGIN:VEVENT
DTSTART;VALUE=DATE:20211218
DTEND;VALUE=DATE:20211219
DTSTAMP:20260422T212952
CREATED:20210921T061914Z
LAST-MODIFIED:20210921T061914Z
UID:11719-1639785600-1639871999@shcces.edu.mo
SUMMARY:Christmas Celebration (Whole School)
DESCRIPTION:聖誕節聯歡會(全校)
URL:https://shcces.edu.mo/event/christmas-celebration-whole-school-2/
CATEGORIES:School Events
ATTACH;FMTTYPE=image/jpeg:https://shcces.edu.mo/wp-content/uploads/2019/08/chrismas-scaled.jpg
END:VEVENT
BEGIN:VEVENT
DTSTART;VALUE=DATE:20211220
DTEND;VALUE=DATE:20211221
DTSTAMP:20260422T212952
CREATED:20210921T070911Z
LAST-MODIFIED:20210921T070911Z
UID:11721-1639958400-1640044799@shcces.edu.mo
SUMMARY:Restoration Day
DESCRIPTION:回歸紀念日
URL:https://shcces.edu.mo/event/restoration-day-2/
CATEGORIES:Public Events
ATTACH;FMTTYPE=image/jpeg:https://shcces.edu.mo/wp-content/uploads/2019/08/macau-scaled.jpg
END:VEVENT
BEGIN:VEVENT
DTSTART;VALUE=DATE:20211221
DTEND;VALUE=DATE:20211222
DTSTAMP:20260422T212952
CREATED:20210921T071044Z
LAST-MODIFIED:20210921T071044Z
UID:11723-1640044800-1640131199@shcces.edu.mo
SUMMARY:Winter Solstice
DESCRIPTION:冬至
URL:https://shcces.edu.mo/event/winter-solstice-2/
CATEGORIES:Public Events
ATTACH;FMTTYPE=image/jpeg:https://shcces.edu.mo/wp-content/uploads/2020/10/winter-solstice.jpg
END:VEVENT
BEGIN:VEVENT
DTSTART;VALUE=DATE:20211222
DTEND;VALUE=DATE:20220101
DTSTAMP:20260422T212952
CREATED:20210921T071206Z
LAST-MODIFIED:20210921T071206Z
UID:11725-1640131200-1640995199@shcces.edu.mo
SUMMARY:Christmas Holidays
DESCRIPTION:聖誕假期
URL:https://shcces.edu.mo/event/christmas-holidays-2/
CATEGORIES:Public Events
ATTACH;FMTTYPE=image/jpeg:https://shcces.edu.mo/wp-content/uploads/2019/08/chrismas-scaled.jpg
END:VEVENT
END:VCALENDAR