BEGIN:VCALENDAR
VERSION:2.0
PRODID:-//Sacred Heart Canossian College - ECPv6.15.20//NONSGML v1.0//EN
CALSCALE:GREGORIAN
METHOD:PUBLISH
X-ORIGINAL-URL:https://shcces.edu.mo
X-WR-CALDESC:Events for Sacred Heart Canossian College
REFRESH-INTERVAL;VALUE=DURATION:PT1H
X-Robots-Tag:noindex
X-PUBLISHED-TTL:PT1H
BEGIN:VTIMEZONE
TZID:Asia/Macau
BEGIN:STANDARD
TZOFFSETFROM:+0800
TZOFFSETTO:+0800
TZNAME:CST
DTSTART:20200101T000000
END:STANDARD
END:VTIMEZONE
BEGIN:VEVENT
DTSTART;VALUE=DATE:20211101
DTEND;VALUE=DATE:20211102
DTSTAMP:20260422T231114
CREATED:20210921T053219Z
LAST-MODIFIED:20210921T053219Z
UID:11697-1635724800-1635811199@shcces.edu.mo
SUMMARY:School Picnic (Primary)
DESCRIPTION:郊遊日(小學)
URL:https://shcces.edu.mo/event/school-picnic-primary-2/
CATEGORIES:Primary,School Events
ATTACH;FMTTYPE=image/jpeg:https://shcces.edu.mo/wp-content/uploads/2019/08/picnic-scaled.jpg
END:VEVENT
BEGIN:VEVENT
DTSTART;VALUE=DATE:20211102
DTEND;VALUE=DATE:20211103
DTSTAMP:20260422T231114
CREATED:20210921T053503Z
LAST-MODIFIED:20210921T053503Z
UID:11700-1635811200-1635897599@shcces.edu.mo
SUMMARY:All Souls Day
DESCRIPTION:追思節
URL:https://shcces.edu.mo/event/all-souls-day-2/
CATEGORIES:School Events
ATTACH;FMTTYPE=image/jpeg:https://shcces.edu.mo/wp-content/uploads/2019/08/all-souls-day-scaled.jpg
END:VEVENT
BEGIN:VEVENT
DTSTART;VALUE=DATE:20211105
DTEND;VALUE=DATE:20211106
DTSTAMP:20260422T231114
CREATED:20210921T053655Z
LAST-MODIFIED:20210921T053655Z
UID:11702-1636070400-1636156799@shcces.edu.mo
SUMMARY:Eucharistic Celebration
DESCRIPTION:感恩祭
URL:https://shcces.edu.mo/event/eucharistic-celebration-15/
CATEGORIES:School Events
ATTACH;FMTTYPE=image/jpeg:https://shcces.edu.mo/wp-content/uploads/2019/06/mass.jpg
END:VEVENT
BEGIN:VEVENT
DTSTART;VALUE=DATE:20211126
DTEND;VALUE=DATE:20211127
DTSTAMP:20260422T231114
CREATED:20210921T054229Z
LAST-MODIFIED:20210921T054229Z
UID:11704-1637884800-1637971199@shcces.edu.mo
SUMMARY:Lockdown Drill (Full-scale Exercise)
DESCRIPTION:可疑人物闖入校園演習（實況演習）
URL:https://shcces.edu.mo/event/lockdown-drill-full-scale-exercise/
CATEGORIES:School Events
ATTACH;FMTTYPE=image/jpeg:https://shcces.edu.mo/wp-content/uploads/2020/10/drill.jpg
END:VEVENT
BEGIN:VEVENT
DTSTART;VALUE=DATE:20211129
DTEND;VALUE=DATE:20211204
DTSTAMP:20260422T231114
CREATED:20210921T055841Z
LAST-MODIFIED:20210921T055841Z
UID:11707-1638144000-1638575999@shcces.edu.mo
SUMMARY:Legal Education Week
DESCRIPTION:普法教育周
URL:https://shcces.edu.mo/event/legal-education-week/
CATEGORIES:School Events
ATTACH;FMTTYPE=image/jpeg:https://shcces.edu.mo/wp-content/uploads/2019/08/exam-scaled.jpg
END:VEVENT
END:VCALENDAR