BEGIN:VCALENDAR
VERSION:2.0
PRODID:-//Sacred Heart Canossian College - ECPv6.15.20//NONSGML v1.0//EN
CALSCALE:GREGORIAN
METHOD:PUBLISH
X-ORIGINAL-URL:https://shcces.edu.mo
X-WR-CALDESC:Events for Sacred Heart Canossian College
REFRESH-INTERVAL;VALUE=DURATION:PT1H
X-Robots-Tag:noindex
X-PUBLISHED-TTL:PT1H
BEGIN:VTIMEZONE
TZID:Asia/Macau
BEGIN:STANDARD
TZOFFSETFROM:+0800
TZOFFSETTO:+0800
TZNAME:CST
DTSTART:20200101T000000
END:STANDARD
END:VTIMEZONE
BEGIN:VEVENT
DTSTART;VALUE=DATE:20211001
DTEND;VALUE=DATE:20211002
DTSTAMP:20260423T003649
CREATED:20210921T042525Z
LAST-MODIFIED:20210921T042525Z
UID:11686-1633046400-1633132799@shcces.edu.mo
SUMMARY:National Day
DESCRIPTION:國慶節
URL:https://shcces.edu.mo/event/national-day-2/
CATEGORIES:Public Events
ATTACH;FMTTYPE=image/jpeg:https://shcces.edu.mo/wp-content/uploads/2019/08/national-day-scaled.jpg
END:VEVENT
BEGIN:VEVENT
DTSTART;VALUE=DATE:20211002
DTEND;VALUE=DATE:20211003
DTSTAMP:20260423T003649
CREATED:20210921T043008Z
LAST-MODIFIED:20210921T043008Z
UID:11688-1633132800-1633219199@shcces.edu.mo
SUMMARY:Day after National Day
DESCRIPTION:國慶翌日
URL:https://shcces.edu.mo/event/day-after-national-day/
CATEGORIES:Public Events
ATTACH;FMTTYPE=image/jpeg:https://shcces.edu.mo/wp-content/uploads/2019/08/national-day-scaled.jpg
END:VEVENT
BEGIN:VEVENT
DTSTART;VALUE=DATE:20211008
DTEND;VALUE=DATE:20211009
DTSTAMP:20260423T003649
CREATED:20210921T043302Z
LAST-MODIFIED:20210921T043302Z
UID:11690-1633651200-1633737599@shcces.edu.mo
SUMMARY:Eucharistic Celebration
DESCRIPTION:感恩祭
URL:https://shcces.edu.mo/event/eucharistic-celebration-14/
CATEGORIES:School Events
ATTACH;FMTTYPE=image/jpeg:https://shcces.edu.mo/wp-content/uploads/2019/06/mass.jpg
END:VEVENT
BEGIN:VEVENT
DTSTART;VALUE=DATE:20211014
DTEND;VALUE=DATE:20211015
DTSTAMP:20260423T003649
CREATED:20210921T043429Z
LAST-MODIFIED:20210921T043429Z
UID:11692-1634169600-1634255999@shcces.edu.mo
SUMMARY:Chung Yeung Festival
DESCRIPTION:重陽節
URL:https://shcces.edu.mo/event/chung-yeung-festival-3/
CATEGORIES:Public Events
ATTACH;FMTTYPE=image/jpeg:https://shcces.edu.mo/wp-content/uploads/2019/08/Chung-Yeung-Festival-scaled.jpg
END:VEVENT
BEGIN:VEVENT
DTSTART;VALUE=DATE:20211021
DTEND;VALUE=DATE:20211023
DTSTAMP:20260423T003649
CREATED:20210921T043711Z
LAST-MODIFIED:20210921T043711Z
UID:11695-1634774400-1634947199@shcces.edu.mo
SUMMARY:Sports Days (F.1 - F.6)
DESCRIPTION:運動日(中一至中六)
URL:https://shcces.edu.mo/event/sports-days-f-1-f-6/
CATEGORIES:School Events,Secondary
ATTACH;FMTTYPE=image/jpeg:https://shcces.edu.mo/wp-content/uploads/2019/08/sports-day-scaled.jpg
END:VEVENT
END:VCALENDAR