BEGIN:VCALENDAR
VERSION:2.0
PRODID:-//Sacred Heart Canossian College - ECPv6.15.20//NONSGML v1.0//EN
CALSCALE:GREGORIAN
METHOD:PUBLISH
X-WR-CALNAME:Sacred Heart Canossian College
X-ORIGINAL-URL:https://shcces.edu.mo
X-WR-CALDESC:Events for Sacred Heart Canossian College
REFRESH-INTERVAL;VALUE=DURATION:PT1H
X-Robots-Tag:noindex
X-PUBLISHED-TTL:PT1H
BEGIN:VTIMEZONE
TZID:Asia/Macau
BEGIN:STANDARD
TZOFFSETFROM:+0800
TZOFFSETTO:+0800
TZNAME:CST
DTSTART:20200101T000000
END:STANDARD
END:VTIMEZONE
BEGIN:VEVENT
DTSTART;VALUE=DATE:20210915
DTEND;VALUE=DATE:20210916
DTSTAMP:20260423T110722
CREATED:20210921T040530Z
LAST-MODIFIED:20210921T040916Z
UID:11674-1631664000-1631750399@shcces.edu.mo
SUMMARY:School Reopening Liturgy (Installation of Primary Prefects))
DESCRIPTION:開學感恩彌撒(小學班長就職禮)
URL:https://shcces.edu.mo/event/primary-school-reopening-liturgy-2021/
CATEGORIES:Primary,School Events
ATTACH;FMTTYPE=image/jpeg:https://shcces.edu.mo/wp-content/uploads/2019/06/mass.jpg
END:VEVENT
BEGIN:VEVENT
DTSTART;VALUE=DATE:20210916
DTEND;VALUE=DATE:20210917
DTSTAMP:20260423T110722
CREATED:20210921T040751Z
LAST-MODIFIED:20210921T040827Z
UID:11677-1631750400-1631836799@shcces.edu.mo
SUMMARY:School Reopening Liturgy (Installation of Secondary Prefects\, Student Governing Council and House Officers)
DESCRIPTION:開學感恩彌撒(中學班長、學生聯會及校社幹事就職禮)
URL:https://shcces.edu.mo/event/school-reopening-liturgy-installation-of-secondary-prefects-student-governing-council-and-house-officers-2/
CATEGORIES:School Events,Secondary
ATTACH;FMTTYPE=image/jpeg:https://shcces.edu.mo/wp-content/uploads/2019/06/mass.jpg
END:VEVENT
BEGIN:VEVENT
DTSTART;VALUE=DATE:20210917
DTEND;VALUE=DATE:20210918
DTSTAMP:20260423T110722
CREATED:20210921T041529Z
LAST-MODIFIED:20210921T041529Z
UID:11679-1631836800-1631923199@shcces.edu.mo
SUMMARY:Installation of Monitresses\, Treasurers and Presidents of Clubs
DESCRIPTION:班組長、財政及組幹事就職禮
URL:https://shcces.edu.mo/event/installation-of-monitresses-treasurers-and-presidents-of-clubs-3/
CATEGORIES:School Events
ATTACH;FMTTYPE=image/jpeg:https://shcces.edu.mo/wp-content/uploads/2019/08/liturgy-scaled.jpg
END:VEVENT
BEGIN:VEVENT
DTSTART;VALUE=DATE:20210922
DTEND;VALUE=DATE:20210923
DTSTAMP:20260423T110722
CREATED:20210921T041733Z
LAST-MODIFIED:20210921T041733Z
UID:11681-1632268800-1632355199@shcces.edu.mo
SUMMARY:Day after Mid-Autumn Festival
DESCRIPTION:中秋節翌日
URL:https://shcces.edu.mo/event/day-after-mid-autumn-festival-2/
CATEGORIES:Public Events
ATTACH;FMTTYPE=image/jpeg:https://shcces.edu.mo/wp-content/uploads/2019/08/mid-autumn-fest-scaled.jpg
END:VEVENT
BEGIN:VEVENT
DTSTART;VALUE=DATE:20210925
DTEND;VALUE=DATE:20210926
DTSTAMP:20260423T110722
CREATED:20210921T042110Z
LAST-MODIFIED:20210921T042110Z
UID:11684-1632528000-1632614399@shcces.edu.mo
SUMMARY:House Orientation (F.1)
DESCRIPTION:校社迎新日(中一)
URL:https://shcces.edu.mo/event/house-orientation-f-1/
CATEGORIES:Primary,School Events
ATTACH;FMTTYPE=image/jpeg:https://shcces.edu.mo/wp-content/uploads/2019/08/house-orientation-scaled.jpg
END:VEVENT
END:VCALENDAR