BEGIN:VCALENDAR
VERSION:2.0
PRODID:-//Sacred Heart Canossian College - ECPv6.15.20//NONSGML v1.0//EN
CALSCALE:GREGORIAN
METHOD:PUBLISH
X-WR-CALNAME:Sacred Heart Canossian College
X-ORIGINAL-URL:https://shcces.edu.mo
X-WR-CALDESC:Events for Sacred Heart Canossian College
REFRESH-INTERVAL;VALUE=DURATION:PT1H
X-Robots-Tag:noindex
X-PUBLISHED-TTL:PT1H
BEGIN:VTIMEZONE
TZID:Asia/Macau
BEGIN:STANDARD
TZOFFSETFROM:+0800
TZOFFSETTO:+0800
TZNAME:CST
DTSTART:20200101T000000
END:STANDARD
END:VTIMEZONE
BEGIN:VEVENT
DTSTART;VALUE=DATE:20210205
DTEND;VALUE=DATE:20210206
DTSTAMP:20260423T195521
CREATED:20201007T052327Z
LAST-MODIFIED:20201007T052327Z
UID:8170-1612483200-1612569599@shcces.edu.mo
SUMMARY:Eucharistic Celebration
DESCRIPTION:感恩祭
URL:https://shcces.edu.mo/event/eucharistic-celebration-11/
CATEGORIES:School Events
ATTACH;FMTTYPE=image/jpeg:https://shcces.edu.mo/wp-content/uploads/2019/06/mass.jpg
END:VEVENT
BEGIN:VEVENT
DTSTART;VALUE=DATE:20210206
DTEND;VALUE=DATE:20210207
DTSTAMP:20260423T195521
CREATED:20201007T052711Z
LAST-MODIFIED:20201007T052711Z
UID:8172-1612569600-1612655999@shcces.edu.mo
SUMMARY:Reports Distribution (Whole School) Parents' Day (F.3)
DESCRIPTION:成績表派發(全校) \n家長日(中三)
URL:https://shcces.edu.mo/event/reports-distribution-whole-school-parents-day-f-3/
CATEGORIES:School Events
ATTACH;FMTTYPE=image/jpeg:https://shcces.edu.mo/wp-content/uploads/2019/06/reports-out.jpg
END:VEVENT
BEGIN:VEVENT
DTSTART;VALUE=DATE:20210209
DTEND;VALUE=DATE:20210210
DTSTAMP:20260423T195521
CREATED:20201007T052930Z
LAST-MODIFIED:20201007T052930Z
UID:8177-1612828800-1612915199@shcces.edu.mo
SUMMARY:Spring Cleaning (Whole School)
DESCRIPTION:年廿八大掃除(全校)
URL:https://shcces.edu.mo/event/spring-cleaning-whole-school-2020/
CATEGORIES:School Events
ATTACH;FMTTYPE=image/jpeg:https://shcces.edu.mo/wp-content/uploads/2019/08/clean-scaled.jpg
END:VEVENT
BEGIN:VEVENT
DTSTART;VALUE=DATE:20210210
DTEND;VALUE=DATE:20210220
DTSTAMP:20260423T195521
CREATED:20201007T053132Z
LAST-MODIFIED:20201007T053132Z
UID:8181-1612915200-1613779199@shcces.edu.mo
SUMMARY:Chinese New Year Holidays
DESCRIPTION:農曆新年假期
URL:https://shcces.edu.mo/event/chinese-new-year-holidays-2020/
CATEGORIES:Public Events
ATTACH;FMTTYPE=image/jpeg:https://shcces.edu.mo/wp-content/uploads/2019/08/chinese-new-year-scaled.jpg
END:VEVENT
BEGIN:VEVENT
DTSTART;VALUE=DATE:20210227
DTEND;VALUE=DATE:20210228
DTSTAMP:20260423T195521
CREATED:20201007T053450Z
LAST-MODIFIED:20201007T053450Z
UID:8184-1614384000-1614470399@shcces.edu.mo
SUMMARY:Lantern Festival Chinese Concert (Whole School)
DESCRIPTION:元宵粵賞中樂滙演
URL:https://shcces.edu.mo/event/lantern-festival-chinese-concert-whole-school/
CATEGORIES:School Events
ATTACH;FMTTYPE=image/jpeg:https://shcces.edu.mo/wp-content/uploads/2019/08/stage-scaled.jpg
END:VEVENT
END:VCALENDAR