BEGIN:VCALENDAR
VERSION:2.0
PRODID:-//Sacred Heart Canossian College - ECPv6.15.20//NONSGML v1.0//EN
CALSCALE:GREGORIAN
METHOD:PUBLISH
X-ORIGINAL-URL:https://shcces.edu.mo
X-WR-CALDESC:Events for Sacred Heart Canossian College
REFRESH-INTERVAL;VALUE=DURATION:PT1H
X-Robots-Tag:noindex
X-PUBLISHED-TTL:PT1H
BEGIN:VTIMEZONE
TZID:Asia/Macau
BEGIN:STANDARD
TZOFFSETFROM:+0800
TZOFFSETTO:+0800
TZNAME:CST
DTSTART:20200101T000000
END:STANDARD
END:VTIMEZONE
BEGIN:VEVENT
DTSTART;VALUE=DATE:20210101
DTEND;VALUE=DATE:20210102
DTSTAMP:20260423T211918
CREATED:20201007T051252Z
LAST-MODIFIED:20201007T051252Z
UID:8156-1609459200-1609545599@shcces.edu.mo
SUMMARY:New Year Holiday
DESCRIPTION:新年假期
URL:https://shcces.edu.mo/event/new-year-holiday-2020/
CATEGORIES:Public Events
ATTACH;FMTTYPE=image/jpeg:https://shcces.edu.mo/wp-content/uploads/2019/08/new-year-scaled.jpg
END:VEVENT
BEGIN:VEVENT
DTSTART;VALUE=DATE:20210108
DTEND;VALUE=DATE:20210109
DTSTAMP:20260423T211918
CREATED:20201007T051447Z
LAST-MODIFIED:20201007T051447Z
UID:8158-1610064000-1610150399@shcces.edu.mo
SUMMARY:Eucharistic Celebration
DESCRIPTION:感恩祭
URL:https://shcces.edu.mo/event/eucharistic-celebration-10/
CATEGORIES:School Events
ATTACH;FMTTYPE=image/jpeg:https://shcces.edu.mo/wp-content/uploads/2019/06/mass.jpg
END:VEVENT
BEGIN:VEVENT
DTSTART;VALUE=DATE:20210108
DTEND;VALUE=DATE:20210109
DTSTAMP:20260423T211918
CREATED:20201007T051725Z
LAST-MODIFIED:20201007T070005Z
UID:8163-1610064000-1610150399@shcces.edu.mo
SUMMARY:First Term Examinations: F.5 - F.6
DESCRIPTION:第一段考試: 中五至中六
URL:https://shcces.edu.mo/event/first-term-examinations-f-5-f-6-4/
CATEGORIES:School Events,Secondary
ATTACH;FMTTYPE=image/jpeg:https://shcces.edu.mo/wp-content/uploads/2019/08/exam-scaled.jpg
END:VEVENT
BEGIN:VEVENT
DTSTART;VALUE=DATE:20210111
DTEND;VALUE=DATE:20210116
DTSTAMP:20260423T211918
CREATED:20201007T051905Z
LAST-MODIFIED:20201007T070243Z
UID:8165-1610323200-1610755199@shcces.edu.mo
SUMMARY:First Term Examinations: F.3 - F.4
DESCRIPTION:第一段考試: 中三至中四
URL:https://shcces.edu.mo/event/first-term-examinations-f-3-f-4-3/
CATEGORIES:School Events,Secondary
ATTACH;FMTTYPE=image/jpeg:https://shcces.edu.mo/wp-content/uploads/2019/08/exam-scaled.jpg
END:VEVENT
BEGIN:VEVENT
DTSTART;VALUE=DATE:20210111
DTEND;VALUE=DATE:20210116
DTSTAMP:20260423T211918
CREATED:20201007T070102Z
LAST-MODIFIED:20201007T070102Z
UID:8252-1610323200-1610755199@shcces.edu.mo
SUMMARY:First Term Examinations: F.5 - F.6
DESCRIPTION:第一段考試: 中五至中六
URL:https://shcces.edu.mo/event/first-term-examinations-f-5-f-6-5/
CATEGORIES:School Events,Secondary
ATTACH;FMTTYPE=image/jpeg:https://shcces.edu.mo/wp-content/uploads/2019/08/exam-scaled.jpg
END:VEVENT
BEGIN:VEVENT
DTSTART;VALUE=DATE:20210114
DTEND;VALUE=DATE:20210116
DTSTAMP:20260423T211918
CREATED:20201007T052040Z
LAST-MODIFIED:20201007T070409Z
UID:8167-1610582400-1610755199@shcces.edu.mo
SUMMARY:First Term Examinations: P.1 - F.2
DESCRIPTION:第一段考試: 小一至中二
URL:https://shcces.edu.mo/event/first-term-examinations-p-1-f-2-3/
CATEGORIES:Primary,School Events,Secondary
ATTACH;FMTTYPE=image/jpeg:https://shcces.edu.mo/wp-content/uploads/2019/08/exam-scaled.jpg
END:VEVENT
BEGIN:VEVENT
DTSTART;VALUE=DATE:20210118
DTEND;VALUE=DATE:20210120
DTSTAMP:20260423T211918
CREATED:20201007T070155Z
LAST-MODIFIED:20201008T022854Z
UID:8254-1610928000-1611100799@shcces.edu.mo
SUMMARY:First Term Examinations: F.5 - F.6
DESCRIPTION:第一段考試: 中五至中六
URL:https://shcces.edu.mo/event/first-term-examinations-f-5-f-6-6/
CATEGORIES:School Events,Secondary
ATTACH;FMTTYPE=image/jpeg:https://shcces.edu.mo/wp-content/uploads/2019/08/exam-scaled.jpg
END:VEVENT
BEGIN:VEVENT
DTSTART;VALUE=DATE:20210118
DTEND;VALUE=DATE:20210120
DTSTAMP:20260423T211918
CREATED:20201007T070331Z
LAST-MODIFIED:20201007T070331Z
UID:8256-1610928000-1611100799@shcces.edu.mo
SUMMARY:First Term Examinations: F.3 - F.4
DESCRIPTION:第一段考試: 中三至中四
URL:https://shcces.edu.mo/event/first-term-examinations-f-3-f-4-4/
CATEGORIES:School Events,Secondary
ATTACH;FMTTYPE=image/jpeg:https://shcces.edu.mo/wp-content/uploads/2019/08/exam-scaled.jpg
END:VEVENT
BEGIN:VEVENT
DTSTART;VALUE=DATE:20210118
DTEND;VALUE=DATE:20210120
DTSTAMP:20260423T211918
CREATED:20201007T070521Z
LAST-MODIFIED:20201007T070521Z
UID:8258-1610928000-1611100799@shcces.edu.mo
SUMMARY:First Term Examinations: P.1 - F.2
DESCRIPTION:第一段考試: 小一至中二
URL:https://shcces.edu.mo/event/first-term-examinations-p-1-f-2-4/
CATEGORIES:Primary,School Events,Secondary
ATTACH;FMTTYPE=image/jpeg:https://shcces.edu.mo/wp-content/uploads/2019/08/exam-scaled.jpg
END:VEVENT
END:VCALENDAR