BEGIN:VCALENDAR
VERSION:2.0
PRODID:-//Sacred Heart Canossian College - ECPv6.15.20//NONSGML v1.0//EN
CALSCALE:GREGORIAN
METHOD:PUBLISH
X-WR-CALNAME:Sacred Heart Canossian College
X-ORIGINAL-URL:https://shcces.edu.mo
X-WR-CALDESC:Events for Sacred Heart Canossian College
REFRESH-INTERVAL;VALUE=DURATION:PT1H
X-Robots-Tag:noindex
X-PUBLISHED-TTL:PT1H
BEGIN:VTIMEZONE
TZID:Asia/Macau
BEGIN:STANDARD
TZOFFSETFROM:+0800
TZOFFSETTO:+0800
TZNAME:CST
DTSTART:20190101T000000
END:STANDARD
END:VTIMEZONE
BEGIN:VEVENT
DTSTART;VALUE=DATE:20201102
DTEND;VALUE=DATE:20201103
DTSTAMP:20260424T001244
CREATED:20201007T012727Z
LAST-MODIFIED:20201007T065808Z
UID:8126-1604275200-1604361599@shcces.edu.mo
SUMMARY:All Souls Day
DESCRIPTION:追思節
URL:https://shcces.edu.mo/event/all-souls-day-2020/
CATEGORIES:School Events
ATTACH;FMTTYPE=image/jpeg:https://shcces.edu.mo/wp-content/uploads/2019/08/all-souls-day-scaled.jpg
END:VEVENT
BEGIN:VEVENT
DTSTART;VALUE=DATE:20201106
DTEND;VALUE=DATE:20201107
DTSTAMP:20260424T001244
CREATED:20201007T012944Z
LAST-MODIFIED:20201007T012957Z
UID:8128-1604620800-1604707199@shcces.edu.mo
SUMMARY:Eucharistic Celebration
DESCRIPTION:感恩祭
URL:https://shcces.edu.mo/event/eucharistic-celebration-2020/
CATEGORIES:School Events
ATTACH;FMTTYPE=image/jpeg:https://shcces.edu.mo/wp-content/uploads/2019/06/mass.jpg
END:VEVENT
BEGIN:VEVENT
DTSTART;VALUE=DATE:20201111
DTEND;VALUE=DATE:20201112
DTSTAMP:20260424T001244
CREATED:20201007T013112Z
LAST-MODIFIED:20201007T013112Z
UID:8130-1605052800-1605139199@shcces.edu.mo
SUMMARY:Typhoon Drill (Full-scale Exercise)
DESCRIPTION:颱風演習（實況演習）
URL:https://shcces.edu.mo/event/typhoon-drill-full-scale-exercise/
CATEGORIES:School Events
ATTACH;FMTTYPE=image/jpeg:https://shcces.edu.mo/wp-content/uploads/2019/09/typhoon.jpg
END:VEVENT
BEGIN:VEVENT
DTSTART;VALUE=DATE:20201127
DTEND;VALUE=DATE:20201128
DTSTAMP:20260424T001244
CREATED:20201007T013224Z
LAST-MODIFIED:20201007T013224Z
UID:8132-1606435200-1606521599@shcces.edu.mo
SUMMARY:School Picnic (Primary)
DESCRIPTION:郊遊日(小學)
URL:https://shcces.edu.mo/event/school-picnic-primary-2020/
CATEGORIES:School Events
ATTACH;FMTTYPE=image/jpeg:https://shcces.edu.mo/wp-content/uploads/2019/08/picnic-scaled.jpg
END:VEVENT
END:VCALENDAR