BEGIN:VCALENDAR
VERSION:2.0
PRODID:-//Sacred Heart Canossian College - ECPv6.15.20//NONSGML v1.0//EN
CALSCALE:GREGORIAN
METHOD:PUBLISH
X-WR-CALNAME:Sacred Heart Canossian College
X-ORIGINAL-URL:https://shcces.edu.mo
X-WR-CALDESC:Events for Sacred Heart Canossian College
REFRESH-INTERVAL;VALUE=DURATION:PT1H
X-Robots-Tag:noindex
X-PUBLISHED-TTL:PT1H
BEGIN:VTIMEZONE
TZID:Asia/Macau
BEGIN:STANDARD
TZOFFSETFROM:+0800
TZOFFSETTO:+0800
TZNAME:CST
DTSTART:20190101T000000
END:STANDARD
END:VTIMEZONE
BEGIN:VEVENT
DTSTART;VALUE=DATE:20200915
DTEND;VALUE=DATE:20200916
DTSTAMP:20260424T052813
CREATED:20200914T022005Z
LAST-MODIFIED:20200914T022330Z
UID:8026-1600128000-1600214399@shcces.edu.mo
SUMMARY:School Reopening Liturgy (Installation of Secondary Prefects\, Student Governing Council and House Officers)
DESCRIPTION:開學感恩彌撒(中學班長、學生聯會及校社幹事就職禮)
URL:https://shcces.edu.mo/event/school-reopening-liturgy-installation-of-secondary-prefects-student-governing-council-and-house-officers/
LOCATION:SHCCES\, no.86 Av. do Ouvidor Arriaga\, Macau\, Macau
CATEGORIES:Secondary
ATTACH;FMTTYPE=image/jpeg:https://shcces.edu.mo/wp-content/uploads/2019/06/mass.jpg
END:VEVENT
BEGIN:VEVENT
DTSTART;VALUE=DATE:20200917
DTEND;VALUE=DATE:20200918
DTSTAMP:20260424T052813
CREATED:20200914T022304Z
LAST-MODIFIED:20200914T022304Z
UID:8030-1600300800-1600387199@shcces.edu.mo
SUMMARY:Installation of Monitresses\, Treasurers and Presidents of Clubs
DESCRIPTION:班組長、財政及組幹事就職禮
URL:https://shcces.edu.mo/event/installation-of-monitresses-treasurers-and-presidents-of-clubs-2/
LOCATION:SHCCES\, no.86 Av. do Ouvidor Arriaga\, Macau\, Macau
CATEGORIES:Secondary
ATTACH;FMTTYPE=image/jpeg:https://shcces.edu.mo/wp-content/uploads/2019/08/liturgy-scaled.jpg
END:VEVENT
BEGIN:VEVENT
DTSTART;VALUE=DATE:20200926
DTEND;VALUE=DATE:20200927
DTSTAMP:20260424T052813
CREATED:20200914T022638Z
LAST-MODIFIED:20200914T022638Z
UID:8033-1601078400-1601164799@shcces.edu.mo
SUMMARY:House Orientation (Secondary)
DESCRIPTION:校社迎新日(中學)
URL:https://shcces.edu.mo/event/house-orientation-secondary-2/
LOCATION:SHCCES\, no.86 Av. do Ouvidor Arriaga\, Macau\, Macau
CATEGORIES:Secondary
ATTACH;FMTTYPE=image/jpeg:https://shcces.edu.mo/wp-content/uploads/2019/08/house-orientation-scaled.jpg
END:VEVENT
END:VCALENDAR