BEGIN:VCALENDAR
VERSION:2.0
PRODID:-//Sacred Heart Canossian College - ECPv6.15.20//NONSGML v1.0//EN
CALSCALE:GREGORIAN
METHOD:PUBLISH
X-WR-CALNAME:Sacred Heart Canossian College
X-ORIGINAL-URL:https://shcces.edu.mo
X-WR-CALDESC:Events for Sacred Heart Canossian College
REFRESH-INTERVAL;VALUE=DURATION:PT1H
X-Robots-Tag:noindex
X-PUBLISHED-TTL:PT1H
BEGIN:VTIMEZONE
TZID:Asia/Macau
BEGIN:STANDARD
TZOFFSETFROM:+0800
TZOFFSETTO:+0800
TZNAME:CST
DTSTART:20190101T000000
END:STANDARD
END:VTIMEZONE
BEGIN:VEVENT
DTSTART;VALUE=DATE:20200601
DTEND;VALUE=DATE:20200602
DTSTAMP:20260424T093606
CREATED:20200609T082639Z
LAST-MODIFIED:20200609T082639Z
UID:7887-1590969600-1591055999@shcces.edu.mo
SUMMARY:Junior Primary Class Resumption初小復課日
DESCRIPTION:
URL:https://shcces.edu.mo/event/junior-primary-class-resumption%e5%88%9d%e5%b0%8f%e5%be%a9%e8%aa%b2%e6%97%a5/
END:VEVENT
BEGIN:VEVENT
DTSTART;VALUE=DATE:20200625
DTEND;VALUE=DATE:20200626
DTSTAMP:20260424T093606
CREATED:20200609T082715Z
LAST-MODIFIED:20201007T063846Z
UID:7889-1593043200-1593129599@shcces.edu.mo
SUMMARY:Dragon Boat Festival
DESCRIPTION:端午節
URL:https://shcces.edu.mo/event/dragon-boat-festival-2/
END:VEVENT
END:VCALENDAR