BEGIN:VCALENDAR
VERSION:2.0
PRODID:-//Sacred Heart Canossian College - ECPv6.15.20//NONSGML v1.0//EN
CALSCALE:GREGORIAN
METHOD:PUBLISH
X-ORIGINAL-URL:https://shcces.edu.mo
X-WR-CALDESC:Events for Sacred Heart Canossian College
REFRESH-INTERVAL;VALUE=DURATION:PT1H
X-Robots-Tag:noindex
X-PUBLISHED-TTL:PT1H
BEGIN:VTIMEZONE
TZID:Asia/Macau
BEGIN:STANDARD
TZOFFSETFROM:+0800
TZOFFSETTO:+0800
TZNAME:CST
DTSTART:20190101T000000
END:STANDARD
END:VTIMEZONE
BEGIN:VEVENT
DTSTART;VALUE=DATE:20200403
DTEND;VALUE=DATE:20200404
DTSTAMP:20260424T122019
CREATED:20190827T163318Z
LAST-MODIFIED:20190822T143414Z
UID:3251-1585872000-1585958399@shcces.edu.mo
SUMMARY:Eucharistic Celebration
DESCRIPTION:感恩祭
URL:https://shcces.edu.mo/event/eucharistic-celebration-7/
CATEGORIES:School Events
ATTACH;FMTTYPE=image/jpeg:https://shcces.edu.mo/wp-content/uploads/2019/06/mass.jpg
END:VEVENT
BEGIN:VEVENT
DTSTART;VALUE=DATE:20200404
DTEND;VALUE=DATE:20200405
DTSTAMP:20260424T122019
CREATED:20190827T163433Z
LAST-MODIFIED:20201007T060934Z
UID:3253-1585958400-1586044799@shcces.edu.mo
SUMMARY:Ching Ming Festival
DESCRIPTION:清明節
URL:https://shcces.edu.mo/event/ching-ming-festival/
CATEGORIES:Public Events
ATTACH;FMTTYPE=image/jpeg:https://shcces.edu.mo/wp-content/uploads/2019/08/Chung-Yeung-Festival-scaled.jpg
END:VEVENT
BEGIN:VEVENT
DTSTART;VALUE=DATE:20200409
DTEND;VALUE=DATE:20200416
DTSTAMP:20260424T122019
CREATED:20190827T163555Z
LAST-MODIFIED:20201007T060807Z
UID:3255-1586390400-1586995199@shcces.edu.mo
SUMMARY:Easter Holidays
DESCRIPTION:復活節假期
URL:https://shcces.edu.mo/event/easter-holidays/
CATEGORIES:Public Events
ATTACH;FMTTYPE=image/jpeg:https://shcces.edu.mo/wp-content/uploads/2019/08/easter-scaled.jpg
END:VEVENT
BEGIN:VEVENT
DTSTART;VALUE=DATE:20200425
DTEND;VALUE=DATE:20200426
DTSTAMP:20260424T122019
CREATED:20190827T164219Z
LAST-MODIFIED:20190822T144355Z
UID:3258-1587772800-1587859199@shcces.edu.mo
SUMMARY:Dance Performance (Primary)
DESCRIPTION:舞蹈滙演(小學)
URL:https://shcces.edu.mo/event/dance-performance-primary/
CATEGORIES:School Events
ATTACH;FMTTYPE=image/jpeg:https://shcces.edu.mo/wp-content/uploads/2019/08/stage-scaled.jpg
END:VEVENT
END:VCALENDAR