BEGIN:VCALENDAR
VERSION:2.0
PRODID:-//Sacred Heart Canossian College - ECPv6.15.20//NONSGML v1.0//EN
CALSCALE:GREGORIAN
METHOD:PUBLISH
X-ORIGINAL-URL:https://shcces.edu.mo
X-WR-CALDESC:Events for Sacred Heart Canossian College
REFRESH-INTERVAL;VALUE=DURATION:PT1H
X-Robots-Tag:noindex
X-PUBLISHED-TTL:PT1H
BEGIN:VTIMEZONE
TZID:Asia/Macau
BEGIN:STANDARD
TZOFFSETFROM:+0800
TZOFFSETTO:+0800
TZNAME:CST
DTSTART:20180101T000000
END:STANDARD
END:VTIMEZONE
BEGIN:VEVENT
DTSTART;VALUE=DATE:20191101
DTEND;VALUE=DATE:20191102
DTSTAMP:20260424T190500
CREATED:20190827T165735Z
LAST-MODIFIED:20190822T130005Z
UID:3189-1572566400-1572652799@shcces.edu.mo
SUMMARY:Eucharistic Celebration
DESCRIPTION:感恩祭
URL:https://shcces.edu.mo/event/eucharistic-celebration-2/
CATEGORIES:School Events
ATTACH;FMTTYPE=image/jpeg:https://shcces.edu.mo/wp-content/uploads/2019/06/mass.jpg
END:VEVENT
BEGIN:VEVENT
DTSTART;VALUE=DATE:20191102
DTEND;VALUE=DATE:20191103
DTSTAMP:20260424T190500
CREATED:20190827T160015Z
LAST-MODIFIED:20190822T131046Z
UID:3191-1572652800-1572739199@shcces.edu.mo
SUMMARY:All Souls Day
DESCRIPTION:追思節
URL:https://shcces.edu.mo/event/all-souls-day/
CATEGORIES:School Events
ATTACH;FMTTYPE=image/jpeg:https://shcces.edu.mo/wp-content/uploads/2019/08/all-souls-day-scaled.jpg
END:VEVENT
BEGIN:VEVENT
DTSTART;VALUE=DATE:20191122
DTEND;VALUE=DATE:20191123
DTSTAMP:20260424T190500
CREATED:20190827T160240Z
LAST-MODIFIED:20201007T023428Z
UID:3193-1574380800-1574467199@shcces.edu.mo
SUMMARY:School Picnic (Secondary)
DESCRIPTION:郊遊日(中學)
URL:https://shcces.edu.mo/event/school-picnic-secondary/
CATEGORIES:School Events
ATTACH;FMTTYPE=image/jpeg:https://shcces.edu.mo/wp-content/uploads/2019/08/picnic-scaled.jpg
END:VEVENT
BEGIN:VEVENT
DTSTART;VALUE=DATE:20191129
DTEND;VALUE=DATE:20191130
DTSTAMP:20260424T190500
CREATED:20190827T161052Z
LAST-MODIFIED:20190822T132047Z
UID:3197-1574985600-1575071999@shcces.edu.mo
SUMMARY:School Picnic (Primary)
DESCRIPTION:郊遊日(小學)
URL:https://shcces.edu.mo/event/school-picnic-primary/
CATEGORIES:School Events
ATTACH;FMTTYPE=image/jpeg:https://shcces.edu.mo/wp-content/uploads/2019/08/picnic-scaled.jpg
END:VEVENT
END:VCALENDAR