BEGIN:VCALENDAR
VERSION:2.0
PRODID:-//Sacred Heart Canossian College - ECPv6.15.20//NONSGML v1.0//EN
CALSCALE:GREGORIAN
METHOD:PUBLISH
X-ORIGINAL-URL:https://shcces.edu.mo
X-WR-CALDESC:Events for Sacred Heart Canossian College
REFRESH-INTERVAL;VALUE=DURATION:PT1H
X-Robots-Tag:noindex
X-PUBLISHED-TTL:PT1H
BEGIN:VTIMEZONE
TZID:Asia/Macau
BEGIN:STANDARD
TZOFFSETFROM:+0800
TZOFFSETTO:+0800
TZNAME:CST
DTSTART:20180101T000000
END:STANDARD
END:VTIMEZONE
BEGIN:VEVENT
DTSTART;VALUE=DATE:20191001
DTEND;VALUE=DATE:20191002
DTSTAMP:20260424T233649
CREATED:20190827T163647Z
LAST-MODIFIED:20190820T144014Z
UID:3175-1569888000-1569974399@shcces.edu.mo
SUMMARY:National Day
DESCRIPTION:國慶節
URL:https://shcces.edu.mo/event/national-day/
CATEGORIES:Public Events
ATTACH;FMTTYPE=image/jpeg:https://shcces.edu.mo/wp-content/uploads/2019/08/national-day-scaled.jpg
END:VEVENT
BEGIN:VEVENT
DTSTART;VALUE=DATE:20191002
DTEND;VALUE=DATE:20191003
DTSTAMP:20260424T233649
CREATED:20190827T164035Z
LAST-MODIFIED:20190820T144142Z
UID:3178-1569974400-1570060799@shcces.edu.mo
SUMMARY:National Day Holiday
DESCRIPTION:國慶節假期
URL:https://shcces.edu.mo/event/national-day-holiday/
CATEGORIES:Public Events
ATTACH;FMTTYPE=image/jpeg:https://shcces.edu.mo/wp-content/uploads/2019/08/national-day-scaled.jpg
END:VEVENT
BEGIN:VEVENT
DTSTART;VALUE=DATE:20191004
DTEND;VALUE=DATE:20191005
DTSTAMP:20260424T233649
CREATED:20190827T164204Z
LAST-MODIFIED:20190820T144645Z
UID:3180-1570147200-1570233599@shcces.edu.mo
SUMMARY:Eucharistic Celebration
DESCRIPTION:感恩祭
URL:https://shcces.edu.mo/event/eucharistic-celebration/
LOCATION:SHCCES\, no.86 Av. do Ouvidor Arriaga\, Macau\, Macau
CATEGORIES:School Events
ATTACH;FMTTYPE=image/jpeg:https://shcces.edu.mo/wp-content/uploads/2019/06/mass.jpg
END:VEVENT
BEGIN:VEVENT
DTSTART;VALUE=DATE:20191007
DTEND;VALUE=DATE:20191008
DTSTAMP:20260424T233649
CREATED:20190827T164759Z
LAST-MODIFIED:20190820T145144Z
UID:3183-1570406400-1570492799@shcces.edu.mo
SUMMARY:Chung Yeung Festival
DESCRIPTION:重陽節
URL:https://shcces.edu.mo/event/chung-yeung-festival/
CATEGORIES:Public Events
ATTACH;FMTTYPE=image/jpeg:https://shcces.edu.mo/wp-content/uploads/2019/08/Chung-Yeung-Festival-scaled.jpg
END:VEVENT
BEGIN:VEVENT
DTSTART;VALUE=DATE:20191016
DTEND;VALUE=DATE:20191019
DTSTAMP:20260424T233649
CREATED:20190827T165213Z
LAST-MODIFIED:20190822T125711Z
UID:3186-1571184000-1571443199@shcces.edu.mo
SUMMARY:Sports Days (Whole School)
DESCRIPTION:運動日(全校)
URL:https://shcces.edu.mo/event/sports-days-whole-school/
CATEGORIES:School Events
ATTACH;FMTTYPE=image/jpeg:https://shcces.edu.mo/wp-content/uploads/2019/08/sports-day-scaled.jpg
END:VEVENT
END:VCALENDAR