BEGIN:VCALENDAR
VERSION:2.0
PRODID:-//Sacred Heart Canossian College - ECPv6.15.20//NONSGML v1.0//EN
CALSCALE:GREGORIAN
METHOD:PUBLISH
X-WR-CALNAME:Sacred Heart Canossian College
X-ORIGINAL-URL:https://shcces.edu.mo
X-WR-CALDESC:Events for Sacred Heart Canossian College
REFRESH-INTERVAL;VALUE=DURATION:PT1H
X-Robots-Tag:noindex
X-PUBLISHED-TTL:PT1H
BEGIN:VTIMEZONE
TZID:Asia/Macau
BEGIN:STANDARD
TZOFFSETFROM:+0800
TZOFFSETTO:+0800
TZNAME:CST
DTSTART:20220101T000000
END:STANDARD
END:VTIMEZONE
BEGIN:VEVENT
DTSTART;VALUE=DATE:20230612
DTEND;VALUE=DATE:20230615
DTSTAMP:20260420T023441
CREATED:20220905T200956Z
LAST-MODIFIED:20220905T200956Z
UID:15520-1686556800-1686729599@shcces.edu.mo
SUMMARY:Final Term Examinations: P.1 - P.5 & F.1 - F.2
DESCRIPTION:Final Term Examinations: P.1 – P.5 & F.1 – F.2
URL:https://shcces.edu.mo/event/final-term-examinations-p-1-p-5-f-1-f-2/
CATEGORIES:Primary,School Events,Secondary
ATTACH;FMTTYPE=image/jpeg:https://shcces.edu.mo/wp-content/uploads/2019/08/exam-scaled.jpg
END:VEVENT
BEGIN:VEVENT
DTSTART;VALUE=DATE:20230614
DTEND;VALUE=DATE:20230616
DTSTAMP:20260420T023441
CREATED:20220905T201432Z
LAST-MODIFIED:20220905T201432Z
UID:15526-1686729600-1686815999@shcces.edu.mo
SUMMARY:Day off for Revision (P.1 - P.5 & F.1 - F.2)
DESCRIPTION:Day off for Revision (P.1 – P.5 & F.1 – F.2)
URL:https://shcces.edu.mo/event/day-off-for-revision-p-1-p-5-f-1-f-2-2/
CATEGORIES:Primary,School Events,Secondary
ATTACH;FMTTYPE=image/jpeg:https://shcces.edu.mo/wp-content/uploads/2019/08/exam-scaled.jpg
END:VEVENT
BEGIN:VEVENT
DTSTART;VALUE=DATE:20230614
DTEND;VALUE=DATE:20230616
DTSTAMP:20260420T023441
CREATED:20220905T201647Z
LAST-MODIFIED:20220905T201647Z
UID:15530-1686729600-1686815999@shcces.edu.mo
SUMMARY:Correction Day: P.6 & F.3
DESCRIPTION:Correction Day: P.6 & F.3
URL:https://shcces.edu.mo/event/correction-day-p-6-f-3-2/
CATEGORIES:Primary,School Events,Secondary
ATTACH;FMTTYPE=image/jpeg:https://shcces.edu.mo/wp-content/uploads/2019/08/exam-scaled.jpg
END:VEVENT
BEGIN:VEVENT
DTSTART;VALUE=DATE:20230615
DTEND;VALUE=DATE:20230618
DTSTAMP:20260420T023441
CREATED:20220905T201057Z
LAST-MODIFIED:20220905T201057Z
UID:15522-1686816000-1686988799@shcces.edu.mo
SUMMARY:Final Term Examinations: P.1 - P.5 & F.1 - F.2
DESCRIPTION:Final Term Examinations: P.1 – P.5 & F.1 – F.2
URL:https://shcces.edu.mo/event/final-term-examinations-p-1-p-5-f-1-f-2-2/
CATEGORIES:Primary,School Events,Secondary
ATTACH;FMTTYPE=image/jpeg:https://shcces.edu.mo/wp-content/uploads/2019/08/exam-scaled.jpg
END:VEVENT
BEGIN:VEVENT
DTSTART;VALUE=DATE:20230616
DTEND;VALUE=DATE:20230618
DTSTAMP:20260420T023441
CREATED:20220905T201904Z
LAST-MODIFIED:20220905T201904Z
UID:15534-1686902400-1686988799@shcces.edu.mo
SUMMARY:Gas Leakage Drill (Table-top Exercise)
DESCRIPTION:Gas Leakage Drill (Table-top Exercise)
URL:https://shcces.edu.mo/event/gas-leakage-drill-table-top-exercise/
CATEGORIES:School Events
ATTACH;FMTTYPE=image/jpeg:https://shcces.edu.mo/wp-content/uploads/2020/10/drill.jpg
END:VEVENT
BEGIN:VEVENT
DTSTART;VALUE=DATE:20230619
DTEND;VALUE=DATE:20230622
DTSTAMP:20260420T023441
CREATED:20220905T202118Z
LAST-MODIFIED:20220905T202119Z
UID:15538-1687161600-1687334399@shcces.edu.mo
SUMMARY:Post Examination Holidays (P.1 - F.5)
DESCRIPTION:Post Examination Holidays (P.1 – F.5)
URL:https://shcces.edu.mo/event/post-examination-holidays-p-1-f-5-5/
CATEGORIES:School Events
ATTACH;FMTTYPE=image/jpeg:https://shcces.edu.mo/wp-content/uploads/2020/10/holidays.jpg
END:VEVENT
BEGIN:VEVENT
DTSTART;VALUE=DATE:20230621
DTEND;VALUE=DATE:20230623
DTSTAMP:20260420T023441
CREATED:20220905T201803Z
LAST-MODIFIED:20220905T201803Z
UID:15532-1687334400-1687420799@shcces.edu.mo
SUMMARY:Correction Day: P.1 - P.5\, F.1 - F.2 & F.4
DESCRIPTION:Correction Day: P.1 – P.5\, F.1 – F.2 & F.4
URL:https://shcces.edu.mo/event/correction-day-p-1-p-5-f-1-f-2-f-4-2/
CATEGORIES:Primary,School Events,Secondary
ATTACH;FMTTYPE=image/jpeg:https://shcces.edu.mo/wp-content/uploads/2019/08/exam-scaled.jpg
END:VEVENT
BEGIN:VEVENT
DTSTART;VALUE=DATE:20230622
DTEND;VALUE=DATE:20230624
DTSTAMP:20260420T023441
CREATED:20220905T202011Z
LAST-MODIFIED:20220905T202011Z
UID:15536-1687420800-1687507199@shcces.edu.mo
SUMMARY:Dragon Boat Festival
DESCRIPTION:Dragon Boat Festival
URL:https://shcces.edu.mo/event/dragon-boat-festival-4/
CATEGORIES:Public Events
ATTACH;FMTTYPE=image/jpeg:https://shcces.edu.mo/wp-content/uploads/2019/08/dragon-boat-scaled.jpg
END:VEVENT
BEGIN:VEVENT
DTSTART;VALUE=DATE:20230622
DTEND;VALUE=DATE:20230625
DTSTAMP:20260420T023441
CREATED:20220905T202210Z
LAST-MODIFIED:20220905T202210Z
UID:15540-1687420800-1687593599@shcces.edu.mo
SUMMARY:Post Examination Holidays (P.1 - F.5)
DESCRIPTION:Post Examination Holidays (P.1 – F.5)
URL:https://shcces.edu.mo/event/post-examination-holidays-p-1-f-5-6/
CATEGORIES:School Events
ATTACH;FMTTYPE=image/jpeg:https://shcces.edu.mo/wp-content/uploads/2020/10/holidays.jpg
END:VEVENT
BEGIN:VEVENT
DTSTART;VALUE=DATE:20230626
DTEND;VALUE=DATE:20230702
DTSTAMP:20260420T023441
CREATED:20220905T202340Z
LAST-MODIFIED:20220905T202400Z
UID:15542-1687766400-1688198399@shcces.edu.mo
SUMMARY:Post Examination Activities (P.1 - F.5)
DESCRIPTION:Post Examination Activities (P.1 – F.5)
URL:https://shcces.edu.mo/event/post-examination-activities-p-1-f-5-6/
CATEGORIES:Primary,School Events,Secondary
ATTACH;FMTTYPE=image/jpeg:https://shcces.edu.mo/wp-content/uploads/2019/06/activity.jpg
END:VEVENT
BEGIN:VEVENT
DTSTART;VALUE=DATE:20230701
DTEND;VALUE=DATE:20230703
DTSTAMP:20260420T023441
CREATED:20220905T202602Z
LAST-MODIFIED:20220905T202602Z
UID:15546-1688198400-1688284799@shcces.edu.mo
SUMMARY:P.6 & F.3 Graduation Day
DESCRIPTION:P.6 & F.3 Graduation Day
URL:https://shcces.edu.mo/event/p-6-f-3-graduation-day-3/
CATEGORIES:Primary,School Events,Secondary
ATTACH;FMTTYPE=image/jpeg:https://shcces.edu.mo/wp-content/uploads/2019/06/graduation.jpg
END:VEVENT
BEGIN:VEVENT
DTSTART;VALUE=DATE:20230703
DTEND;VALUE=DATE:20230707
DTSTAMP:20260420T023441
CREATED:20220905T202506Z
LAST-MODIFIED:20220905T202506Z
UID:15544-1688371200-1688630399@shcces.edu.mo
SUMMARY:Post Examination Activities (P.1 - F.5)
DESCRIPTION:Post Examination Activities (P.1 – F.5)
URL:https://shcces.edu.mo/event/post-examination-activities-p-1-f-5-7/
CATEGORIES:Primary,School Events,Secondary
ATTACH;FMTTYPE=image/jpeg:https://shcces.edu.mo/wp-content/uploads/2019/06/activity.jpg
END:VEVENT
BEGIN:VEVENT
DTSTART;VALUE=DATE:20230706
DTEND;VALUE=DATE:20230708
DTSTAMP:20260420T023441
CREATED:20220905T202759Z
LAST-MODIFIED:20220905T202759Z
UID:15548-1688630400-1688716799@shcces.edu.mo
SUMMARY:Thanksgiving Day (P.1 - F.5)
DESCRIPTION:Thanksgiving Day (P.1 – F.5)
URL:https://shcces.edu.mo/event/thanksgiving-day-p-1-f-5-3/
CATEGORIES:Primary,School Events,Secondary
ATTACH;FMTTYPE=image/jpeg:https://shcces.edu.mo/wp-content/uploads/2019/06/thanksgiving.jpg
END:VEVENT
BEGIN:VEVENT
DTSTART;VALUE=DATE:20230707
DTEND;VALUE=DATE:20230709
DTSTAMP:20260420T023441
CREATED:20220905T202858Z
LAST-MODIFIED:20220905T202858Z
UID:15550-1688716800-1688803199@shcces.edu.mo
SUMMARY:Reports Distribution (P.1 - F.5)
DESCRIPTION:Reports Distribution (P.1 – F.5)
URL:https://shcces.edu.mo/event/reports-distribution-p-1-f-5-2/
CATEGORIES:Primary,School Events,Secondary
ATTACH;FMTTYPE=image/jpeg:https://shcces.edu.mo/wp-content/uploads/2019/06/reports-out.jpg
END:VEVENT
BEGIN:VEVENT
DTSTART;VALUE=DATE:20230708
DTEND;VALUE=DATE:20230710
DTSTAMP:20260420T023441
CREATED:20220905T203032Z
LAST-MODIFIED:20220905T203032Z
UID:15552-1688803200-1688889599@shcces.edu.mo
SUMMARY:Prize-giving Ceremony (P.1 - F.5)
DESCRIPTION:Prize-giving Ceremony (P.1 – F.5)
URL:https://shcces.edu.mo/event/prize-giving-ceremony-p-1-f-5-2/
CATEGORIES:Primary,School Events,Secondary
ATTACH;FMTTYPE=image/jpeg:https://shcces.edu.mo/wp-content/uploads/2019/08/all-souls-day-scaled.jpg
END:VEVENT
END:VCALENDAR