BEGIN:VCALENDAR
VERSION:2.0
PRODID:-//Sacred Heart Canossian College - ECPv6.15.20//NONSGML v1.0//EN
CALSCALE:GREGORIAN
METHOD:PUBLISH
X-ORIGINAL-URL:https://shcces.edu.mo
X-WR-CALDESC:Events for Sacred Heart Canossian College
REFRESH-INTERVAL;VALUE=DURATION:PT1H
X-Robots-Tag:noindex
X-PUBLISHED-TTL:PT1H
BEGIN:VTIMEZONE
TZID:Asia/Macau
BEGIN:STANDARD
TZOFFSETFROM:+0800
TZOFFSETTO:+0800
TZNAME:CST
DTSTART:20200101T000000
END:STANDARD
END:VTIMEZONE
BEGIN:VEVENT
DTSTART;VALUE=DATE:20210703
DTEND;VALUE=DATE:20210704
DTSTAMP:20260422T052813
CREATED:20201007T065113Z
LAST-MODIFIED:20201007T065113Z
UID:8242-1625270400-1625356799@shcces.edu.mo
SUMMARY:P.6 & F.3 Graduation Day
DESCRIPTION:小六及中三畢業禮
URL:https://shcces.edu.mo/event/p-6-f-3-graduation-day/
CATEGORIES:Primary,School Events,Secondary
ATTACH;FMTTYPE=image/jpeg:https://shcces.edu.mo/wp-content/uploads/2019/06/graduation.jpg
END:VEVENT
END:VCALENDAR