BEGIN:VCALENDAR
VERSION:2.0
PRODID:-//Sacred Heart Canossian College - ECPv6.15.20//NONSGML v1.0//EN
CALSCALE:GREGORIAN
METHOD:PUBLISH
X-WR-CALNAME:Sacred Heart Canossian College
X-ORIGINAL-URL:https://shcces.edu.mo
X-WR-CALDESC:Events for Sacred Heart Canossian College
REFRESH-INTERVAL;VALUE=DURATION:PT1H
X-Robots-Tag:noindex
X-PUBLISHED-TTL:PT1H
BEGIN:VTIMEZONE
TZID:Asia/Macau
BEGIN:STANDARD
TZOFFSETFROM:+0800
TZOFFSETTO:+0800
TZNAME:CST
DTSTART:20200101T000000
END:STANDARD
END:VTIMEZONE
BEGIN:VEVENT
DTSTART;VALUE=DATE:20210114
DTEND;VALUE=DATE:20210116
DTSTAMP:20260422T133034
CREATED:20201007T052040Z
LAST-MODIFIED:20201007T070409Z
UID:8167-1610582400-1610755199@shcces.edu.mo
SUMMARY:First Term Examinations: P.1 - F.2
DESCRIPTION:第一段考試: 小一至中二
URL:https://shcces.edu.mo/event/first-term-examinations-p-1-f-2-3/
CATEGORIES:Primary,School Events,Secondary
ATTACH;FMTTYPE=image/jpeg:https://shcces.edu.mo/wp-content/uploads/2019/08/exam-scaled.jpg
END:VEVENT
BEGIN:VEVENT
DTSTART;VALUE=DATE:20210118
DTEND;VALUE=DATE:20210120
DTSTAMP:20260422T133034
CREATED:20201007T070521Z
LAST-MODIFIED:20201007T070521Z
UID:8258-1610928000-1611100799@shcces.edu.mo
SUMMARY:First Term Examinations: P.1 - F.2
DESCRIPTION:第一段考試: 小一至中二
URL:https://shcces.edu.mo/event/first-term-examinations-p-1-f-2-4/
CATEGORIES:Primary,School Events,Secondary
ATTACH;FMTTYPE=image/jpeg:https://shcces.edu.mo/wp-content/uploads/2019/08/exam-scaled.jpg
END:VEVENT
END:VCALENDAR