BEGIN:VCALENDAR
VERSION:2.0
PRODID:-//Sacred Heart Canossian College - ECPv6.15.20//NONSGML v1.0//EN
CALSCALE:GREGORIAN
METHOD:PUBLISH
X-ORIGINAL-URL:https://shcces.edu.mo
X-WR-CALDESC:Events for Sacred Heart Canossian College
REFRESH-INTERVAL;VALUE=DURATION:PT1H
X-Robots-Tag:noindex
X-PUBLISHED-TTL:PT1H
BEGIN:VTIMEZONE
TZID:Asia/Macau
BEGIN:STANDARD
TZOFFSETFROM:+0800
TZOFFSETTO:+0800
TZNAME:CST
DTSTART:20220101T000000
END:STANDARD
END:VTIMEZONE
BEGIN:VEVENT
DTSTART;VALUE=DATE:20230204
DTEND;VALUE=DATE:20230206
DTSTAMP:20260421T175653
CREATED:20220905T184729Z
LAST-MODIFIED:20220905T184729Z
UID:15473-1675497600-1675583999@shcces.edu.mo
SUMMARY:Chinese Culture Day
DESCRIPTION:Chinese Culture Day
URL:https://shcces.edu.mo/event/chinese-culture-day-2/
CATEGORIES:School Events
ATTACH;FMTTYPE=image/jpeg:https://shcces.edu.mo/wp-content/uploads/2019/08/chinese-new-year-scaled.jpg
END:VEVENT
END:VCALENDAR