BEGIN:VCALENDAR
VERSION:2.0
PRODID:-//Sacred Heart Canossian College - ECPv6.15.20//NONSGML v1.0//EN
CALSCALE:GREGORIAN
METHOD:PUBLISH
X-ORIGINAL-URL:https://shcces.edu.mo
X-WR-CALDESC:Events for Sacred Heart Canossian College
REFRESH-INTERVAL;VALUE=DURATION:PT1H
X-Robots-Tag:noindex
X-PUBLISHED-TTL:PT1H
BEGIN:VTIMEZONE
TZID:Asia/Macau
BEGIN:STANDARD
TZOFFSETFROM:+0800
TZOFFSETTO:+0800
TZNAME:CST
DTSTART:20210101T000000
END:STANDARD
END:VTIMEZONE
BEGIN:VEVENT
DTSTART;VALUE=DATE:20220104
DTEND;VALUE=DATE:20220108
DTSTAMP:20260422T213021
CREATED:20210921T071950Z
LAST-MODIFIED:20210921T071950Z
UID:11731-1641254400-1641599999@shcces.edu.mo
SUMMARY:First Term Examinations: F.5 - F.6
DESCRIPTION:第一段考試：中五至中六
URL:https://shcces.edu.mo/event/first-term-examinations-f-5-f-6-7/
CATEGORIES:School Events,Secondary
ATTACH;FMTTYPE=image/jpeg:https://shcces.edu.mo/wp-content/uploads/2019/08/exam-scaled.jpg
END:VEVENT
BEGIN:VEVENT
DTSTART;VALUE=DATE:20220105
DTEND;VALUE=DATE:20220108
DTSTAMP:20260422T213021
CREATED:20210921T072257Z
LAST-MODIFIED:20210921T072257Z
UID:11735-1641340800-1641599999@shcces.edu.mo
SUMMARY:First Term Examinations: F.3 - F.4
DESCRIPTION:中三至中四
URL:https://shcces.edu.mo/event/first-term-examinations-f-3-f-4-5/
CATEGORIES:School Events,Secondary
ATTACH;FMTTYPE=image/jpeg:https://shcces.edu.mo/wp-content/uploads/2019/08/exam-scaled.jpg
END:VEVENT
END:VCALENDAR