BEGIN:VCALENDAR
VERSION:2.0
PRODID:-//Sacred Heart Canossian College - ECPv6.15.20//NONSGML v1.0//EN
CALSCALE:GREGORIAN
METHOD:PUBLISH
X-WR-CALNAME:Sacred Heart Canossian College
X-ORIGINAL-URL:https://shcces.edu.mo
X-WR-CALDESC:Events for Sacred Heart Canossian College
REFRESH-INTERVAL;VALUE=DURATION:PT1H
X-Robots-Tag:noindex
X-PUBLISHED-TTL:PT1H
BEGIN:VTIMEZONE
TZID:Asia/Macau
BEGIN:STANDARD
TZOFFSETFROM:+0800
TZOFFSETTO:+0800
TZNAME:CST
DTSTART:20200101T000000
END:STANDARD
END:VTIMEZONE
BEGIN:VEVENT
DTSTART;VALUE=DATE:20210916
DTEND;VALUE=DATE:20210917
DTSTAMP:20260423T110702
CREATED:20210921T040751Z
LAST-MODIFIED:20210921T040827Z
UID:11677-1631750400-1631836799@shcces.edu.mo
SUMMARY:School Reopening Liturgy (Installation of Secondary Prefects\, Student Governing Council and House Officers)
DESCRIPTION:開學感恩彌撒(中學班長、學生聯會及校社幹事就職禮)
URL:https://shcces.edu.mo/event/school-reopening-liturgy-installation-of-secondary-prefects-student-governing-council-and-house-officers-2/
CATEGORIES:School Events,Secondary
ATTACH;FMTTYPE=image/jpeg:https://shcces.edu.mo/wp-content/uploads/2019/06/mass.jpg
END:VEVENT
END:VCALENDAR