BEGIN:VCALENDAR
VERSION:2.0
PRODID:-//Sacred Heart Canossian College - ECPv6.15.20//NONSGML v1.0//EN
CALSCALE:GREGORIAN
METHOD:PUBLISH
X-ORIGINAL-URL:https://shcces.edu.mo
X-WR-CALDESC:Events for Sacred Heart Canossian College
REFRESH-INTERVAL;VALUE=DURATION:PT1H
X-Robots-Tag:noindex
X-PUBLISHED-TTL:PT1H
BEGIN:VTIMEZONE
TZID:Asia/Macau
BEGIN:STANDARD
TZOFFSETFROM:+0800
TZOFFSETTO:+0800
TZNAME:CST
DTSTART:20190101T000000
END:STANDARD
END:VTIMEZONE
BEGIN:VEVENT
DTSTART;VALUE=DATE:20201022
DTEND;VALUE=DATE:20201024
DTSTAMP:20260424T052819
CREATED:20200914T023333Z
LAST-MODIFIED:20200914T023333Z
UID:8041-1603324800-1603497599@shcces.edu.mo
SUMMARY:Sports Days (Secondary)
DESCRIPTION:運動日(中學)
URL:https://shcces.edu.mo/event/sports-days-secondary/
CATEGORIES:Secondary
ATTACH;FMTTYPE=image/jpeg:https://shcces.edu.mo/wp-content/uploads/2019/11/sports-day-1920_05-scaled.jpg
END:VEVENT
END:VCALENDAR