BEGIN:VCALENDAR
VERSION:2.0
PRODID:-//Sacred Heart Canossian College - ECPv6.15.20//NONSGML v1.0//EN
CALSCALE:GREGORIAN
METHOD:PUBLISH
X-WR-CALNAME:Sacred Heart Canossian College
X-ORIGINAL-URL:https://shcces.edu.mo
X-WR-CALDESC:Events for Sacred Heart Canossian College
REFRESH-INTERVAL;VALUE=DURATION:PT1H
X-Robots-Tag:noindex
X-PUBLISHED-TTL:PT1H
BEGIN:VTIMEZONE
TZID:Asia/Macau
BEGIN:STANDARD
TZOFFSETFROM:+0800
TZOFFSETTO:+0800
TZNAME:CST
DTSTART:20190101T000000
END:STANDARD
END:VTIMEZONE
BEGIN:VEVENT
DTSTART;VALUE=DATE:20200504
DTEND;VALUE=DATE:20200505
DTSTAMP:20260424T133224
CREATED:20200609T082102Z
LAST-MODIFIED:20200609T082102Z
UID:7881-1588550400-1588636799@shcces.edu.mo
SUMMARY:Senior Secondary Class Resumption高中復課日
DESCRIPTION:
URL:https://shcces.edu.mo/event/senior-secondary-class-resumption%e9%ab%98%e4%b8%ad%e5%be%a9%e8%aa%b2%e6%97%a5/
END:VEVENT
END:VCALENDAR