BEGIN:VCALENDAR
VERSION:2.0
PRODID:-//Sacred Heart Canossian College - ECPv6.15.20//NONSGML v1.0//EN
CALSCALE:GREGORIAN
METHOD:PUBLISH
X-WR-CALNAME:Sacred Heart Canossian College
X-ORIGINAL-URL:https://shcces.edu.mo
X-WR-CALDESC:Events for Sacred Heart Canossian College
REFRESH-INTERVAL;VALUE=DURATION:PT1H
X-Robots-Tag:noindex
X-PUBLISHED-TTL:PT1H
BEGIN:VTIMEZONE
TZID:Asia/Macau
BEGIN:STANDARD
TZOFFSETFROM:+0800
TZOFFSETTO:+0800
TZNAME:CST
DTSTART:20180101T000000
END:STANDARD
END:VTIMEZONE
BEGIN:VEVENT
DTSTART;VALUE=DATE:20191102
DTEND;VALUE=DATE:20191103
DTSTAMP:20260424T231946
CREATED:20190827T160015Z
LAST-MODIFIED:20190822T131046Z
UID:3191-1572652800-1572739199@shcces.edu.mo
SUMMARY:All Souls Day
DESCRIPTION:追思節
URL:https://shcces.edu.mo/event/all-souls-day/
CATEGORIES:School Events
ATTACH;FMTTYPE=image/jpeg:https://shcces.edu.mo/wp-content/uploads/2019/08/all-souls-day-scaled.jpg
END:VEVENT
END:VCALENDAR