BEGIN:VCALENDAR
VERSION:2.0
PRODID:-//Sacred Heart Canossian College - ECPv6.15.20//NONSGML v1.0//EN
CALSCALE:GREGORIAN
METHOD:PUBLISH
X-ORIGINAL-URL:https://shcces.edu.mo
X-WR-CALDESC:Events for Sacred Heart Canossian College
REFRESH-INTERVAL;VALUE=DURATION:PT1H
X-Robots-Tag:noindex
X-PUBLISHED-TTL:PT1H
BEGIN:VTIMEZONE
TZID:Asia/Macau
BEGIN:STANDARD
TZOFFSETFROM:+0800
TZOFFSETTO:+0800
TZNAME:CST
DTSTART:20180101T000000
END:STANDARD
END:VTIMEZONE
BEGIN:VEVENT
DTSTART;VALUE=DATE:20190921
DTEND;VALUE=DATE:20190922
DTSTAMP:20260425T020609
CREATED:20190827T162133Z
LAST-MODIFIED:20190820T143631Z
UID:3172-1569024000-1569110399@shcces.edu.mo
SUMMARY:House Orientation (Secondary)
DESCRIPTION:校社迎新日(中學)
URL:https://shcces.edu.mo/event/house-orientation-secondary/
LOCATION:SHCCES\, no.86 Av. do Ouvidor Arriaga\, Macau\, Macau
CATEGORIES:School Events,Secondary
ATTACH;FMTTYPE=image/jpeg:https://shcces.edu.mo/wp-content/uploads/2019/08/house-orientation-scaled.jpg
END:VEVENT
END:VCALENDAR