BEGIN:VCALENDAR
VERSION:2.0
PRODID:-//Sacred Heart Canossian College - ECPv6.15.20//NONSGML v1.0//EN
CALSCALE:GREGORIAN
METHOD:PUBLISH
X-ORIGINAL-URL:https://shcces.edu.mo
X-WR-CALDESC:Events for Sacred Heart Canossian College
REFRESH-INTERVAL;VALUE=DURATION:PT1H
X-Robots-Tag:noindex
X-PUBLISHED-TTL:PT1H
BEGIN:VTIMEZONE
TZID:Asia/Macau
BEGIN:STANDARD
TZOFFSETFROM:+0800
TZOFFSETTO:+0800
TZNAME:CST
DTSTART:20180101T000000
END:STANDARD
END:VTIMEZONE
BEGIN:VEVENT
DTSTART;VALUE=DATE:20190920
DTEND;VALUE=DATE:20190921
DTSTAMP:20260425T020607
CREATED:20190827T161737Z
LAST-MODIFIED:20190820T142102Z
UID:3170-1568937600-1569023999@shcces.edu.mo
SUMMARY:Installation of Monitresses\, Treasurers and Presidents of Clubs
DESCRIPTION:班組長、財政及組幹事就職禮
URL:https://shcces.edu.mo/event/installation-of-monitresses-treasurers-and-presidents-of-clubs/
LOCATION:SHCCES\, no.86 Av. do Ouvidor Arriaga\, Macau\, Macau
CATEGORIES:School Events
ATTACH;FMTTYPE=image/jpeg:https://shcces.edu.mo/wp-content/uploads/2019/08/liturgy-scaled.jpg
END:VEVENT
END:VCALENDAR